BEGIN:VCALENDAR
VERSION:2.0
PRODID:-//Plone.org//NONSGML plone.app.event//EN
X-WR-TIMEZONE:America/Sao_Paulo
BEGIN:VEVENT
SUMMARY:Recesso Escolar: Dia do Servidor Público e comemoração ao dia d
 o Professor em [ Auditorio da Reitoria Saguao da Reitoria Gramado da Reito
 ria Arena da praça de serviços Entorno da Praca de Servicos Auditorio No
 bre do CAD 1 Auditorio 1A do CAD 1 Auditorio 2A do CAD 1 Auditorio A102 do
  Cad 2 Auditorio A104 do Cad 2 Auditório B101/102 do CAD 3 Auditório B10
 6 do CAD3 Auditório B107 do CAD3]
DTSTART;TZID=America/Sao_Paulo;VALUE=DATE-TIME:20241028T080000
DTEND;TZID=America/Sao_Paulo;VALUE=DATE-TIME:20241028T220000
DTSTAMP;VALUE=DATE-TIME:20260419T191757Z
UID:8bff6515d2054292b71d59342c656afb@150.164.76.86:8080
CREATED;VALUE=DATE-TIME:20231106T133546Z
DESCRIPTION:<p>Recesso escolar</p>
LAST-MODIFIED;VALUE=DATE-TIME:20231106T133626Z
URL:http://150.164.76.86:8080/cac/agenda/7777125911190176263
END:VEVENT
BEGIN:VTIMEZONE
TZID:America/Sao_Paulo
X-LIC-LOCATION:America/Sao_Paulo
BEGIN:DAYLIGHT
DTSTART;VALUE=DATE-TIME:20241020T010000
TZNAME:BRST
TZOFFSETFROM:-0300
TZOFFSETTO:-0200
END:DAYLIGHT
END:VTIMEZONE
END:VCALENDAR
