BEGIN:VCALENDAR
VERSION:2.0
PRODID:-//Plone.org//NONSGML plone.app.event//EN
X-WR-TIMEZONE:America/Sao_Paulo
BEGIN:VEVENT
SUMMARY:Tópicos em Sociologia em [ Auditorio A104 do Cad 2]
DTSTART;TZID=America/Sao_Paulo;VALUE=DATE-TIME:20240405T130000
DTEND;TZID=America/Sao_Paulo;VALUE=DATE-TIME:20240405T173000
DTSTAMP;VALUE=DATE-TIME:20260420T044450Z
UID:b121868cfead4cbe8907e116b73b6974@150.164.76.86:8080
CREATED;VALUE=DATE-TIME:20240306T120254Z
DESCRIPTION:Aula ampliada da disciplina Tópicos em Sociologia. Atividade 
 com a presença do servidor Fabricio Riff para ajudar na TI.
LAST-MODIFIED;VALUE=DATE-TIME:20240307T161922Z
URL:http://150.164.76.86:8080/cac/agenda/7773231830463830983
END:VEVENT
BEGIN:VTIMEZONE
TZID:America/Sao_Paulo
X-LIC-LOCATION:America/Sao_Paulo
BEGIN:STANDARD
DTSTART;VALUE=DATE-TIME:20240217T230000
TZNAME:BRT
TZOFFSETFROM:-0200
TZOFFSETTO:-0300
END:STANDARD
END:VTIMEZONE
END:VCALENDAR
