BEGIN:VCALENDAR
VERSION:2.0
PRODID:-//Plone.org//NONSGML plone.app.event//EN
X-WR-TIMEZONE:America/Sao_Paulo
BEGIN:VEVENT
SUMMARY:Intelligence and Artificial Intelligence em [ Auditorio Nobre do C
 AD 1]
DTSTART;TZID=America/Sao_Paulo;VALUE=DATE-TIME:20220607T090000
DTEND;TZID=America/Sao_Paulo;VALUE=DATE-TIME:20220610T190000
DTSTAMP;VALUE=DATE-TIME:20260422T050929Z
UID:5aa6c84167d84ab98341283d13448c6b@150.164.76.86:8080
CREATED;VALUE=DATE-TIME:20210928T181914Z
DESCRIPTION:Vamos precisar do apoio da equipe de audiovisual da CAC:\n\nPr
 ogramação:\n\n07 a 10 de junho de 2022\n\nA. Abordagens das neurociênci
 as e IA para a Cognição. (Robert Aumann\, William Hopkins\, Jay McClella
 nd\, nome brasileiro).   \nB. Fundamentos e aspectos éticos da inteligên
 cia artificial e ciências cognitivas (Jack Copeland\, Oron Shagrir\, Kare
 n Yeung\, Saadi Lahlou) \nC. Robôs\, sentidos e emoções (Antonio Damasi
 o\, Toshio Fukuda\, Zaven Paré\, Shimon Ullman) \nD. Explorações interd
 isciplinares da inteligência artificial. (Philippe Aghion\, Marc Mézard\
 , nome brasileiro\, Lesly Goh\nE. Novas perspectivas decorrentes da IA em 
 saúde e psicologia (Robert Zatorre\, indicação brasileira\, Xiao-Jing W
 ang\, Ada Yonath) \nF. Cenários futuros para economia\, emprego e desigua
 ldade sob o impacto da IA\, Big Data a Automação. (Martin Rees\, Olivier
  Bouin\, Raouf Boucekkine\, indicação brasileira). \n\nO horário de cad
 a sessão ainda não está definido.
LAST-MODIFIED;VALUE=DATE-TIME:20211029T163452Z
URL:http://150.164.76.86:8080/cac/agenda/7771161067679743248
END:VEVENT
BEGIN:VTIMEZONE
TZID:America/Sao_Paulo
X-LIC-LOCATION:America/Sao_Paulo
BEGIN:STANDARD
DTSTART;VALUE=DATE-TIME:20220219T230000
TZNAME:BRT
TZOFFSETFROM:-0200
TZOFFSETTO:-0300
END:STANDARD
END:VTIMEZONE
END:VCALENDAR
