BEGIN:VCALENDAR
VERSION:2.0
PRODID:-//Plone.org//NONSGML plone.app.event//EN
X-WR-TIMEZONE:America/Sao_Paulo
BEGIN:VEVENT
SUMMARY:Seminário Fhemig/UFMG em [ Outros espacos]
DTSTART;TZID=America/Sao_Paulo;VALUE=DATE-TIME:20240918T140000
DTEND;TZID=America/Sao_Paulo;VALUE=DATE-TIME:20240918T160000
DTSTAMP;VALUE=DATE-TIME:20260419T205525Z
UID:59a3a4716b1d41e493fb8782851899b0@150.164.76.86:8080
CREATED;VALUE=DATE-TIME:20240416T120246Z
DESCRIPTION:Seminário parceria entre UFMG e Fhemig
LAST-MODIFIED;VALUE=DATE-TIME:20240418T141756Z
URL:http://150.164.76.86:8080/cac/agenda/7769308952900985427
END:VEVENT
BEGIN:VTIMEZONE
TZID:America/Sao_Paulo
X-LIC-LOCATION:America/Sao_Paulo
BEGIN:STANDARD
DTSTART;VALUE=DATE-TIME:20240217T230000
TZNAME:BRT
TZOFFSETFROM:-0200
TZOFFSETTO:-0300
END:STANDARD
END:VTIMEZONE
END:VCALENDAR
