BEGIN:VCALENDAR
VERSION:2.0
PRODID:-//Plone.org//NONSGML plone.app.event//EN
X-WR-TIMEZONE:America/Sao_Paulo
BEGIN:VEVENT
SUMMARY:Reaplicação provas concurso DPMG em [ Auditorio Nobre do CAD 1 A
 uditorio 1A do CAD 1 Auditorio 2A do CAD 1 Outros espacos]
DTSTART;TZID=America/Sao_Paulo;VALUE=DATE-TIME:20231202T120000
DTEND;TZID=America/Sao_Paulo;VALUE=DATE-TIME:20231203T200000
DTSTAMP;VALUE=DATE-TIME:20260420T102409Z
UID:27cd72e512e245d29d2d321f5add1d42@150.164.76.86:8080
CREATED;VALUE=DATE-TIME:20231023T172915Z
DESCRIPTION:<p>reaplicação provas concurso Defensoria Pública</p>
LAST-MODIFIED;VALUE=DATE-TIME:20231023T172933Z
URL:http://150.164.76.86:8080/cac/agenda/7762399939655341130
END:VEVENT
BEGIN:VTIMEZONE
TZID:America/Sao_Paulo
X-LIC-LOCATION:America/Sao_Paulo
BEGIN:DAYLIGHT
DTSTART;VALUE=DATE-TIME:20231015T010000
TZNAME:BRST
TZOFFSETFROM:-0300
TZOFFSETTO:-0200
END:DAYLIGHT
END:VTIMEZONE
END:VCALENDAR
