BEGIN:VCALENDAR
VERSION:2.0
PRODID:-//Plone.org//NONSGML plone.app.event//EN
X-WR-TIMEZONE:America/Sao_Paulo
BEGIN:VEVENT
SUMMARY:Comissão Eleitoral Central em [ Auditorio da Reitoria]
DTSTART;TZID=America/Sao_Paulo;VALUE=DATE-TIME:20211019T170000
DTEND;TZID=America/Sao_Paulo;VALUE=DATE-TIME:20211105T180000
DTSTAMP;VALUE=DATE-TIME:20260423T125202Z
UID:b4118dd421d94e808ac14ad076babca2@150.164.76.86:8080
CREATED;VALUE=DATE-TIME:20211019T193228Z
DESCRIPTION:<p>Preparativos e debates das candidaturas à reitoria da UFMG
 \, promovidos pela Comissão Eleitoral Central</p>
LAST-MODIFIED;VALUE=DATE-TIME:20211019T193535Z
URL:http://150.164.76.86:8080/cac/agenda/7756875083598883640
END:VEVENT
BEGIN:VTIMEZONE
TZID:America/Sao_Paulo
X-LIC-LOCATION:America/Sao_Paulo
BEGIN:DAYLIGHT
DTSTART;VALUE=DATE-TIME:20211017T010000
TZNAME:BRST
TZOFFSETFROM:-0300
TZOFFSETTO:-0200
END:DAYLIGHT
END:VTIMEZONE
END:VCALENDAR
