BEGIN:VCALENDAR
VERSION:2.0
PRODID:-//Plone.org//NONSGML plone.app.event//EN
X-WR-TIMEZONE:America/Sao_Paulo
BEGIN:VEVENT
SUMMARY:BLITZ CASU em [ Entorno da Praca de Servicos Arena da praça de se
 rviços]
DTSTART;TZID=America/Sao_Paulo;VALUE=DATE-TIME:20230828T080000
DTEND;TZID=America/Sao_Paulo;VALUE=DATE-TIME:20230829T090000
DTSTAMP;VALUE=DATE-TIME:20260421T091237Z
UID:27edef76395d4b86a4c1a52e8bb78ad2@150.164.76.86:8080
CREATED;VALUE=DATE-TIME:20230301T143234Z
DESCRIPTION:<p>BLITZ CASU 2023 - CASU APROXIMA Me chamo Brendha\, sou assi
 stente social\, trabalho na CASU/UFMG (Caixa de Assistência à Universida
 de). Gostaríamos de retornar esse ano com a BLITZ da CASU\, e para isso s
 eria necessário reservar a praça de serviços para realizar o evento. (
 última vez que realizamos foi em 2015 e esse ano vamos retornar). Neste e
 vento alugamos tendas\, fazemos parceira com algumas faculdades de saúde 
 (enfermagem\, nutrição\, educação física\, farmácia\, entre outras) 
 para os alunos atender nos stands\, com intuito de prevenção e promoçã
 o de saúde. </p>
LAST-MODIFIED;VALUE=DATE-TIME:20230807T184318Z
URL:http://150.164.76.86:8080/cac/agenda/7736627504845517999
END:VEVENT
BEGIN:VTIMEZONE
TZID:America/Sao_Paulo
X-LIC-LOCATION:America/Sao_Paulo
BEGIN:STANDARD
DTSTART;VALUE=DATE-TIME:20230225T230000
TZNAME:BRT
TZOFFSETFROM:-0200
TZOFFSETTO:-0300
END:STANDARD
END:VTIMEZONE
END:VCALENDAR
