BEGIN:VCALENDAR
VERSION:2.0
PRODID:-//Plone.org//NONSGML plone.app.event//EN
X-WR-TIMEZONE:America/Sao_Paulo
BEGIN:VEVENT
SUMMARY:K-day: K-pop na UFMG em [ Arena da praça de serviços]
DTSTART;TZID=America/Sao_Paulo;VALUE=DATE-TIME:20240405T120000
DTEND;TZID=America/Sao_Paulo;VALUE=DATE-TIME:20240405T190000
DTSTAMP;VALUE=DATE-TIME:20260420T044605Z
UID:2d2421c76b1d40a795d53da24c63996f@150.164.76.86:8080
CREATED;VALUE=DATE-TIME:20231114T171529Z
DESCRIPTION:<p>A atividade “K-day: K-pop na UFMG” compreende uma ofici
 na de dança ministrada por uma estudante da UFMG\, com o intuito de ensin
 ar uma coreografia de K-pop. Além disso\, a apresentação de três perfo
 rmances de dança no estilo K-pop\, realizadas por grupos ou artistas solo
 . Destacando-se\, também\, o "Random Play Dance"\, jogo conhecido na comu
 nidade kpopper. Neste jogo\, os participantes se unem enquanto refrãos de
  diferentes músicas são reproduzidos aleatoriamente\, e aqueles que domi
 nam a coreografia são encorajados a dança-la. A atividade contou com o f
 omento da PRAE\, por meio da Chamada PRAE de Auxílio Financeiro a Partici
 pação e Realização de Eventos Acadêmicos\, Científicos e de Convivê
 ncia.</p>
LAST-MODIFIED;VALUE=DATE-TIME:20240216T135632Z
URL:http://150.164.76.86:8080/cac/agenda/7735031762847993146
END:VEVENT
BEGIN:VTIMEZONE
TZID:America/Sao_Paulo
X-LIC-LOCATION:America/Sao_Paulo
BEGIN:STANDARD
DTSTART;VALUE=DATE-TIME:20240217T230000
TZNAME:BRT
TZOFFSETFROM:-0200
TZOFFSETTO:-0300
END:STANDARD
END:VTIMEZONE
END:VCALENDAR
