BEGIN:VCALENDAR
VERSION:2.0
PRODID:-//Plone.org//NONSGML plone.app.event//EN
X-WR-TIMEZONE:America/Sao_Paulo
BEGIN:VEVENT
SUMMARY:II Congresso Nacional de Inovação e Popularização da Ciência/
  1° Dia com Ciência em [ Auditório B101/102 do CAD 3]
DTSTART;TZID=America/Sao_Paulo;VALUE=DATE-TIME:20221006T080000
DTEND;TZID=America/Sao_Paulo;VALUE=DATE-TIME:20221006T120000
DTSTAMP;VALUE=DATE-TIME:20260421T221837Z
UID:e398f137e7504fc882d163f2a24463d7@150.164.76.86:8080
CREATED;VALUE=DATE-TIME:20220315T014118Z
DESCRIPTION:<p>O evento é uma proposta contemplada pelo edital 10/2021 do
  CNPQ e tem a premissa de promover atividades de divulgação e populariza
 ção científica e tecnológica a nível nacional levando ações para pr
 omover a conexão direta de pesquisadores e pesquisas da Universidade com 
 o ensino fundamental I e II\, ensino médio e a educação de jovens e adu
 ltos. As ações consistem na realização de experimentos de ciências du
 rante o evento\, com a participação ativa dos estudantes\, promovendo um
 a vivência investigativa e exploratória. Os objetivos do evento são: - 
 Propiciar a interação\, a troca de experiência e saberes entre a univer
 sidade e a comunidade escolar por meio de atividades diversas e com o envo
 lvimento de docentes e discentes das instituições de ensino superior que
  compõem a equipe de execução deste projeto\, e os docentes e estudante
 s da Educação Básica\, especialmente da rede pública\, por meio da rea
 lização de práticas de cunho científico. Para a realização das ativi
 dades presenciais\, serão observados todos os protocolos sanitários vige
 nte na data da realização do evento. - Disponibilizar jogos didáticos\,
  motivadores\, inovadores e participativos para estimular a investigação
 \, o raciocínio científico e exploratório\, ensinando os mecanismos de 
 buscas em sites científicos de fontes seguras\, que utilizam inteligênci
 a artificial e novas tecnologias para contribuir com o ensino de ciências
 . Nessa atividade\, será enfatizada a importância de pesquisas científi
 cas a serem realizadas em domínios confiáveis\, evitando-se informaçõe
 s equivocadas e sem comprovação científica. - Promover a popularizaçã
 o da ciência e impactar os participantes de forma positiva\, levando info
 rmação de tecnologias desenvolvidas em pesquisas acadêmicas\, pelos mem
 bros da equipe\, através de apresentações de pesquisas científicas e p
 rodutos desenvolvidos tecnologicamente nas instituições participantes da
  proposta\, promovendo atividades educacionais voltadas para estudantes da
  educação básica e para outros públicos participantes. - Compartilhar 
 com todos os participantes\, conteúdos e produtos desenvolvidos pelo prog
 rama de extensão da UFMG - “1000 Futuros Cientistas” - que utiliza ex
 perimentos na área de química\, jogos\, vídeos e aplicativos como ferra
 mentas de popularização da ciência. - Incluir as cidades com baixo IDH 
 dando a oportunidade às escolas presentes nestas cidades de participarem 
 presencialmente do evento. - Incluir escolas com baixo IDEB no plano de a
 ção que conecta a sociedade com a universidade tendo como foco incentiva
 r a participação desses estudantes nas atividades que serão desenvolvid
 as. - Envolver discentes e pesquisadores das instituições que compõem e
 sta proposta\, na elaboração\, organização e realização das atividad
 es/ações de forma a instigar o pensamento interdisciplinar e/ou transdis
 ciplinar\, agregando múltiplas e diversas áreas do conhecimento na discu
 ssão de questões atuais no âmbito do evento proposto. A participação 
 efetiva de discentes em atividades de extensão dessa magnitude\, promove 
 uma formação acadêmica diferenciada\, com o desenvolvimento de conhecim
 ento científico associado à uma visão social integrativa e humanista. I
 nfraestrutura necessária para a realização: - estrutura para delimitar 
 os stands\; suporte para posteres\; 1 auditório para abertura\, palestra 
 e encerramento\; 1 auditório ou sala para montar sala multimídia interat
 iva\; 3 telões para transmissão da abertura\, das palestras e do encerra
 mento (ou 5 monitores grandes)\; sala de apoio para a comissão organizado
 ra\; banheiros\; material de higiene e limpeza\; equipe de limpeza\; técn
 ico de áudio visual. - espaço aberto do hall de passagem para exposiçã
 o dos posteres.</p>
LAST-MODIFIED;VALUE=DATE-TIME:20230111T201115Z
URL:http://150.164.76.86:8080/cac/agenda/7728267437305629045
END:VEVENT
BEGIN:VTIMEZONE
TZID:America/Sao_Paulo
X-LIC-LOCATION:America/Sao_Paulo
BEGIN:STANDARD
DTSTART;VALUE=DATE-TIME:20220219T230000
TZNAME:BRT
TZOFFSETFROM:-0200
TZOFFSETTO:-0300
END:STANDARD
END:VTIMEZONE
END:VCALENDAR
