BEGIN:VCALENDAR
VERSION:2.0
PRODID:-//Plone.org//NONSGML plone.app.event//EN
X-WR-TIMEZONE:America/Sao_Paulo
BEGIN:VEVENT
SUMMARY:Ensaio da Colação de Grau dos Formandos em Letras em [ Auditorio
  Nobre do CAD 1]
DTSTART;TZID=America/Sao_Paulo;VALUE=DATE-TIME:20230828T140000
DTEND;TZID=America/Sao_Paulo;VALUE=DATE-TIME:20230828T160000
DTSTAMP;VALUE=DATE-TIME:20260421T090934Z
UID:982afdd534444ec88bd3e60c2fc2c427@150.164.76.86:8080
CREATED;VALUE=DATE-TIME:20230524T115643Z
DESCRIPTION:Ensaio geral da Colação de Grau dos formandos em Letras. Rec
 onhecimento do espaço\, informações gerais e passo a passo da cerimôni
 a.
LAST-MODIFIED;VALUE=DATE-TIME:20230524T191445Z
URL:http://150.164.76.86:8080/cac/agenda/7721773747160056082
END:VEVENT
BEGIN:VTIMEZONE
TZID:America/Sao_Paulo
X-LIC-LOCATION:America/Sao_Paulo
BEGIN:STANDARD
DTSTART;VALUE=DATE-TIME:20230225T230000
TZNAME:BRT
TZOFFSETFROM:-0200
TZOFFSETTO:-0300
END:STANDARD
END:VTIMEZONE
END:VCALENDAR
