BEGIN:VCALENDAR
VERSION:2.0
PRODID:-//Plone.org//NONSGML plone.app.event//EN
X-WR-TIMEZONE:America/Sao_Paulo
BEGIN:VEVENT
SUMMARY:Aula magna Min MCTI em [ Auditorio da Reitoria]
DTSTART;TZID=America/Sao_Paulo;VALUE=DATE-TIME:20230320T150000
DTEND;TZID=America/Sao_Paulo;VALUE=DATE-TIME:20230320T170000
DTSTAMP;VALUE=DATE-TIME:20260421T175648Z
UID:55c463b44ab44e06927856d1d8fe48e0@150.164.76.86:8080
CREATED;VALUE=DATE-TIME:20230315T153834Z
DESCRIPTION:<p>Aula com ministra Luciana Santos. </p>
LAST-MODIFIED;VALUE=DATE-TIME:20230316T151436Z
URL:http://150.164.76.86:8080/cac/agenda/7711844562052681635
END:VEVENT
BEGIN:VTIMEZONE
TZID:America/Sao_Paulo
X-LIC-LOCATION:America/Sao_Paulo
BEGIN:STANDARD
DTSTART;VALUE=DATE-TIME:20230225T230000
TZNAME:BRT
TZOFFSETFROM:-0200
TZOFFSETTO:-0300
END:STANDARD
END:VTIMEZONE
END:VCALENDAR
