BEGIN:VCALENDAR
VERSION:2.0
PRODID:-//Plone.org//NONSGML plone.app.event//EN
X-WR-TIMEZONE:America/Sao_Paulo
BEGIN:VEVENT
SUMMARY:CAPACIDADE EXCEDIDA em [ Saguao da Reitoria Auditorio da Reitoria 
 Gramado da Reitoria Auditorio Nobre do CAD 1 Auditorio 1A do CAD 1 Auditor
 io 2A do CAD 1 Auditorio A102 do Cad 2 Auditorio A104 do Cad 2 Auditório 
 B302 do CAD 3 Auditório B101/102 do CAD 3 Auditório B301 do CAD 3]
DTSTART;TZID=America/Sao_Paulo;VALUE=DATE-TIME:20201118T070000
DTEND;TZID=America/Sao_Paulo;VALUE=DATE-TIME:20201118T120000
DTSTAMP;VALUE=DATE-TIME:20260424T161149Z
UID:880f9bac82994b09a2275459e2cc9243@150.164.76.86:8080
CREATED;VALUE=DATE-TIME:20200219T131624Z
DESCRIPTION:<p>.</p>
LAST-MODIFIED;VALUE=DATE-TIME:20230111T201044Z
URL:http://150.164.76.86:8080/cac/agenda/7711460374462623156
END:VEVENT
BEGIN:VTIMEZONE
TZID:America/Sao_Paulo
X-LIC-LOCATION:America/Sao_Paulo
BEGIN:DAYLIGHT
DTSTART;VALUE=DATE-TIME:20201018T010000
TZNAME:BRST
TZOFFSETFROM:-0300
TZOFFSETTO:-0200
END:DAYLIGHT
END:VTIMEZONE
END:VCALENDAR
