BEGIN:VCALENDAR
VERSION:2.0
PRODID:-//Plone.org//NONSGML plone.app.event//EN
X-WR-TIMEZONE:America/Sao_Paulo
BEGIN:VEVENT
SUMMARY:Seminário 50 Anos Programa de Pós-Graduação em Ciência da Com
 putação em [ Auditório B101/102 do CAD 3 (102 s/ ar condic) Auditório 
 B106 do CAD3]
DTSTART;TZID=America/Sao_Paulo;VALUE=DATE-TIME:20250327T130000
DTEND;TZID=America/Sao_Paulo;VALUE=DATE-TIME:20250328T110000
DTSTAMP;VALUE=DATE-TIME:20260419T120248Z
UID:d7a1259a1e204569afafcf5c70b99bc6@150.164.76.86:8080
CREATED;VALUE=DATE-TIME:20250318T194240Z
DESCRIPTION:<p>Evento comemorativo dos 50 anos da Pós-Graduação do Depa
 rtamento de Ciência da Computação. Reservamos o dia 28-03-2025. Estamos
  solicitando a tarde do dia 27-03 e a manhã para os preparativos.</p>
LAST-MODIFIED;VALUE=DATE-TIME:20250319T141537Z
URL:http://150.164.76.86:8080/cac/agenda/7703571292519751935
END:VEVENT
BEGIN:VTIMEZONE
TZID:America/Sao_Paulo
X-LIC-LOCATION:America/Sao_Paulo
BEGIN:STANDARD
DTSTART;VALUE=DATE-TIME:20250215T230000
TZNAME:BRT
TZOFFSETFROM:-0200
TZOFFSETTO:-0300
END:STANDARD
END:VTIMEZONE
END:VCALENDAR
