BEGIN:VCALENDAR
VERSION:2.0
PRODID:-//Plone.org//NONSGML plone.app.event//EN
X-WR-TIMEZONE:America/Sao_Paulo
BEGIN:VEVENT
SUMMARY:III Congresso sobre Estudos da Interpretação e IV Colóquio sobr
 e interpretação de línguas de sinais em contextos comunitários: saúde
 \, educação e justiça em [ Auditorio A102 do Cad 2 Auditorio A104 do Ca
 d 2]
DTSTART;TZID=America/Sao_Paulo;VALUE=DATE-TIME:20231129T080000
DTEND;TZID=America/Sao_Paulo;VALUE=DATE-TIME:20231201T180000
DTSTAMP;VALUE=DATE-TIME:20260420T102051Z
UID:7691694ad2374d9099db765594efaeb7@150.164.76.86:8080
CREATED;VALUE=DATE-TIME:20221201T163029Z
DESCRIPTION:<p>Estrutura completa de áudio e vídeo do auditório. Progra
 mação ainda a ser definida. OBS: a operação audiovisual será feita pe
 los técnicos em audiovisual da FALE.</p>
LAST-MODIFIED;VALUE=DATE-TIME:20230509T154206Z
URL:http://150.164.76.86:8080/cac/agenda/769646018153938419
END:VEVENT
BEGIN:VTIMEZONE
TZID:America/Sao_Paulo
X-LIC-LOCATION:America/Sao_Paulo
BEGIN:DAYLIGHT
DTSTART;VALUE=DATE-TIME:20231015T010000
TZNAME:BRST
TZOFFSETFROM:-0300
TZOFFSETTO:-0200
END:DAYLIGHT
END:VTIMEZONE
END:VCALENDAR
