BEGIN:VCALENDAR
VERSION:2.0
PRODID:-//Plone.org//NONSGML plone.app.event//EN
X-WR-TIMEZONE:America/Sao_Paulo
BEGIN:VEVENT
SUMMARY:Feira VAL em [ Entorno da Praca de Servicos]
DTSTART;TZID=America/Sao_Paulo;VALUE=DATE-TIME:20231120T100000
DTEND;TZID=America/Sao_Paulo;VALUE=DATE-TIME:20231121T190000
DTSTAMP;VALUE=DATE-TIME:20260420T142923Z
UID:2e8da35744aa4e78ae297a83c496b854@150.164.76.86:8080
CREATED;VALUE=DATE-TIME:20231026T163105Z
DESCRIPTION:Feira VAL
LAST-MODIFIED;VALUE=DATE-TIME:20231030T133254Z
URL:http://150.164.76.86:8080/cac/agenda/767247228154245130
END:VEVENT
BEGIN:VTIMEZONE
TZID:America/Sao_Paulo
X-LIC-LOCATION:America/Sao_Paulo
BEGIN:DAYLIGHT
DTSTART;VALUE=DATE-TIME:20231015T010000
TZNAME:BRST
TZOFFSETFROM:-0300
TZOFFSETTO:-0200
END:DAYLIGHT
END:VTIMEZONE
END:VCALENDAR
