BEGIN:VCALENDAR
VERSION:2.0
PRODID:-//Plone.org//NONSGML plone.app.event//EN
X-WR-TIMEZONE:America/Sao_Paulo
BEGIN:VEVENT
SUMMARY:Reunião Semana do Conhecimento em [ Outros espacos]
DTSTART;TZID=America/Sao_Paulo;VALUE=DATE-TIME:20221011T100000
DTEND;TZID=America/Sao_Paulo;VALUE=DATE-TIME:20221011T120000
DTSTAMP;VALUE=DATE-TIME:20260421T234829Z
UID:67c412ea99e5417cb7faff8d72984a3a@150.164.76.86:8080
CREATED;VALUE=DATE-TIME:20221004T202715Z
DESCRIPTION:Reunião Sala de Sessões
LAST-MODIFIED;VALUE=DATE-TIME:20221004T202732Z
URL:http://150.164.76.86:8080/cac/agenda/7672448473602972031
END:VEVENT
BEGIN:VTIMEZONE
TZID:America/Sao_Paulo
X-LIC-LOCATION:America/Sao_Paulo
BEGIN:STANDARD
DTSTART;VALUE=DATE-TIME:20220219T230000
TZNAME:BRT
TZOFFSETFROM:-0200
TZOFFSETTO:-0300
END:STANDARD
END:VTIMEZONE
END:VCALENDAR
