BEGIN:VCALENDAR
VERSION:2.0
PRODID:-//Plone.org//NONSGML plone.app.event//EN
X-WR-TIMEZONE:America/Sao_Paulo
BEGIN:VEVENT
SUMMARY:Lançamento Edital Incubadoras de Empresas Inova UFMG em [ Auditor
 io A104 do Cad 2]
DTSTART;TZID=America/Sao_Paulo;VALUE=DATE-TIME:20230905T130000
DTEND;TZID=America/Sao_Paulo;VALUE=DATE-TIME:20230905T170000
DTSTAMP;VALUE=DATE-TIME:20260421T080222Z
UID:fd6d804abd7448ebb9d0ebfe75b5b83c@150.164.76.86:8080
CREATED;VALUE=DATE-TIME:20230725T140743Z
DESCRIPTION:lançamento edital inova -
LAST-MODIFIED;VALUE=DATE-TIME:20230725T183552Z
URL:http://150.164.76.86:8080/cac/agenda/7643423559502648949
END:VEVENT
BEGIN:VTIMEZONE
TZID:America/Sao_Paulo
X-LIC-LOCATION:America/Sao_Paulo
BEGIN:STANDARD
DTSTART;VALUE=DATE-TIME:20230225T230000
TZNAME:BRT
TZOFFSETFROM:-0200
TZOFFSETTO:-0300
END:STANDARD
END:VTIMEZONE
END:VCALENDAR
