BEGIN:VCALENDAR
VERSION:2.0
PRODID:-//Plone.org//NONSGML plone.app.event//EN
X-WR-TIMEZONE:America/Sao_Paulo
BEGIN:VEVENT
SUMMARY:Seminários 2022 - parceria UFMG e FHEMIG - 2ª Edição - Manejo 
 do usuário de álcool e outras drogas na alta complexidade do sistema de 
 saúde em [ Outros espacos]
DTSTART;TZID=America/Sao_Paulo;VALUE=DATE-TIME:20220624T093000
DTEND;TZID=America/Sao_Paulo;VALUE=DATE-TIME:20220624T113000
DTSTAMP;VALUE=DATE-TIME:20260422T064748Z
UID:8ddf28ab9a9e4c04be17fc7fb63303a5@150.164.76.86:8080
CREATED;VALUE=DATE-TIME:20220527T171645Z
DESCRIPTION:Título\n(como aparecerá no Youtube)\naté 100 caracteres\nMa
 nejo do usuário de álcool e outras drogas na alta complexidade do sistem
 a de saúde\n\n===========================================================
 ====\n\nData e Horário\nData: 24/06/2022\nHorário: 9\;30 às 11:30 h\nLo
 cal Físico / Online\nYOUTUBE DA CAC UFMG\n\n\n\n=========================
 ======================================\n\nParticipantes\n\nMediação\nCri
 stina Aparecida Pimenta dos Santos Anjos\nAssistente de Administração do
  Setor de Mobilidade e Estágios da UFMG\n\nApresentação\nUFMG\nProfesso
 r Helian Nunes de Oliveira - \nProfessor da Faculdade de Medicina do Depar
 tamento de Medicina Preventiva e Social (25 min)\n\nApresentação\nFHEMIG
 \nMarcela Ferreira - Enfermeira do Centro Mineiro de Toxomania  (esteve n
 o nosso primeiro seminário) (15 min)\n\nApresentação\n  ????????? tere
 mos um terceiro convidado que será um servidor que trabalha na UPA. Terem
 os a confirmação do nome na semana que vem. (15 min)\n\nIntérprete\n\nI
 ntérprete\n\n\n==========================================================
 =====\n\n\nReitora\, Vice-Reitor\, Cerimonial\nSEM INDICAÇÃO DE PARTICIP
 AÇÃO DA REITORIA\nIntérpretes NAI\nEstamos solicitando os Intérpretes 
 do NAI\nEndereço Físico \nou Sala de Conferência Virtual\nZoom da Progr
 ad - fornecer acessa a CAC\n\n============================================
 ===================\n\nChat do Youtube\nCanal\nURL do Canal\nQuem vai oper
 ar\nEventos Prograd UFMG\nhttps://www.youtube.com/channel/UC527mAxgm0uPHd4
 Bhco-HcQ\n Victor\nPrograd UFMG\nhttps://www.youtube.com/channel/UCFX2PVog
 4oS17E5fnhbDZAg\nCarolina
LAST-MODIFIED;VALUE=DATE-TIME:20220531T153121Z
URL:http://150.164.76.86:8080/cac/agenda/7635907191562066630
END:VEVENT
BEGIN:VTIMEZONE
TZID:America/Sao_Paulo
X-LIC-LOCATION:America/Sao_Paulo
BEGIN:STANDARD
DTSTART;VALUE=DATE-TIME:20220219T230000
TZNAME:BRT
TZOFFSETFROM:-0200
TZOFFSETTO:-0300
END:STANDARD
END:VTIMEZONE
END:VCALENDAR
