BEGIN:VCALENDAR
VERSION:2.0
PRODID:-//Plone.org//NONSGML plone.app.event//EN
X-WR-TIMEZONE:America/Sao_Paulo
BEGIN:VEVENT
SUMMARY:CAPACIDADE EXCEDIDA em [ Saguao da Reitoria Auditorio da Reitoria 
 Gramado da Reitoria Auditorio 1A do CAD 1 Auditorio 2A do CAD 1 Auditorio 
 A102 do Cad 2 Auditorio A104 do Cad 2 Arena da praça de serviços]
DTSTART;TZID=America/Sao_Paulo;VALUE=DATE-TIME:20201006T000000
DTEND;TZID=America/Sao_Paulo;VALUE=DATE-TIME:20201009T230000
DTSTAMP;VALUE=DATE-TIME:20260424T171728Z
UID:aa647488daaf497c90ffee522de9b67e@150.164.76.86:8080
CREATED;VALUE=DATE-TIME:20200206T130340Z
DESCRIPTION:<p>.</p>
LAST-MODIFIED;VALUE=DATE-TIME:20200303T153516Z
URL:http://150.164.76.86:8080/cac/agenda/7630285115760188833
END:VEVENT
BEGIN:VTIMEZONE
TZID:America/Sao_Paulo
X-LIC-LOCATION:America/Sao_Paulo
BEGIN:STANDARD
DTSTART;VALUE=DATE-TIME:20200215T230000
TZNAME:BRT
TZOFFSETFROM:-0200
TZOFFSETTO:-0300
END:STANDARD
END:VTIMEZONE
END:VCALENDAR
