BEGIN:VCALENDAR
VERSION:2.0
PRODID:-//Plone.org//NONSGML plone.app.event//EN
X-WR-TIMEZONE:America/Sao_Paulo
BEGIN:VEVENT
SUMMARY:1º Ciclo de Debates do APUBH em [ Auditório B106 do CAD3]
DTSTART;TZID=America/Sao_Paulo;VALUE=DATE-TIME:20250424T130000
DTEND;TZID=America/Sao_Paulo;VALUE=DATE-TIME:20250424T180000
DTSTAMP;VALUE=DATE-TIME:20260419T104052Z
UID:b1e99a2f01a745e0b04e4ae00e812b01@150.164.76.86:8080
CREATED;VALUE=DATE-TIME:20250319T125807Z
DESCRIPTION:Necessário utilizar a internet cabeada do auditório\, infrae
 strutura ((caixa de som\, microfone\,) de audiovisual\, para efetuar grava
 ção e transmissão que será através da equipe do APUBH.
LAST-MODIFIED;VALUE=DATE-TIME:20250319T142451Z
URL:http://150.164.76.86:8080/cac/agenda/7629670090599283108
END:VEVENT
BEGIN:VTIMEZONE
TZID:America/Sao_Paulo
X-LIC-LOCATION:America/Sao_Paulo
BEGIN:STANDARD
DTSTART;VALUE=DATE-TIME:20250215T230000
TZNAME:BRT
TZOFFSETFROM:-0200
TZOFFSETTO:-0300
END:STANDARD
END:VTIMEZONE
END:VCALENDAR
