BEGIN:VCALENDAR
VERSION:2.0
PRODID:-//Plone.org//NONSGML plone.app.event//EN
X-WR-TIMEZONE:America/Sao_Paulo
BEGIN:VEVENT
SUMMARY:Motirõ - Programa de Desenvolvimento de Negócios de Impacto Soci
 al e Ambiental em [ Auditorio A102 do Cad 2]
DTSTART;TZID=America/Sao_Paulo;VALUE=DATE-TIME:20250512T164500
DTEND;TZID=America/Sao_Paulo;VALUE=DATE-TIME:20250512T184500
DTSTAMP;VALUE=DATE-TIME:20260419T091108Z
UID:5b5807f554734473a5af11a0c64cf3c7@150.164.76.86:8080
CREATED;VALUE=DATE-TIME:20250328T181158Z
DESCRIPTION:<p>Estamos organizando aulas teóricas sobre negócios de impa
 cto para o Projeto de Extensão Motirõ\, a serem realizadas em um dos aud
 itórios solicitados todas as segundas-feiras\, das 16:45 às 18:25\, do d
 ia 05/05 até 07/07. Necessitamos de um projetor funcionando para as apres
 entações. Também estamos avaliando a possibilidade de transmitir o even
 to para que os membros da comunidade acadêmica da UFMG de Montes Claros p
 ossam participar\, caso a estrutura permita. Caso ambos os auditórios sol
 icitados não estejam disponíveis\, gostaríamos de solicitar a avaliaç
 ão de outros auditórios com capacidade para mais de 120 pessoas.</p>
LAST-MODIFIED;VALUE=DATE-TIME:20250422T203417Z
URL:http://150.164.76.86:8080/cac/agenda/7627071953669753031
END:VEVENT
BEGIN:VTIMEZONE
TZID:America/Sao_Paulo
X-LIC-LOCATION:America/Sao_Paulo
BEGIN:STANDARD
DTSTART;VALUE=DATE-TIME:20250215T230000
TZNAME:BRT
TZOFFSETFROM:-0200
TZOFFSETTO:-0300
END:STANDARD
END:VTIMEZONE
END:VCALENDAR
