BEGIN:VCALENDAR
VERSION:2.0
PRODID:-//Plone.org//NONSGML plone.app.event//EN
X-WR-TIMEZONE:America/Sao_Paulo
BEGIN:VEVENT
SUMMARY:Quarta Doze e Trinta em [ Arena da praça de serviços]
DTSTART;TZID=America/Sao_Paulo;VALUE=DATE-TIME:20231206T080000
DTEND;TZID=America/Sao_Paulo;VALUE=DATE-TIME:20231206T150000
DTSTAMP;VALUE=DATE-TIME:20260420T114818Z
UID:2f16b51bd7f84dd6980d3a00dece06d5@150.164.76.86:8080
CREATED;VALUE=DATE-TIME:20231117T183618Z
DESCRIPTION:1 BUMBO SHURE BETA 52 PEQUENO\n2 CAIXA PELE SHURE SM-57 PEQUEN
 O\n3 CAIXA ESTEIRA SHURE SM-57 PEQUENO\n4 CHIMBAL SHURE SM~81 MEDIO\n5 TOM
  1 E 604\n6 TOM 2 E-604\n7 SURDO E~604\n8 OVER L AE 3000 GRANDE\n9 OVER R 
 AE 3000 GRANDE\n10 BAIXO ELETRICO DI\n11 GUITARRA SM-57 PEQUENO\n12 KEY L 
 DI\n13 KEY R DI\n14 VOZ ROBSON SM-58 SEM FIO GRANDE\n15 VOZ ROBSON BY SM-5
 8 SEM FIO
LAST-MODIFIED;VALUE=DATE-TIME:20231117T200342Z
URL:http://150.164.76.86:8080/cac/agenda/7598137246035606055
END:VEVENT
BEGIN:VTIMEZONE
TZID:America/Sao_Paulo
X-LIC-LOCATION:America/Sao_Paulo
BEGIN:DAYLIGHT
DTSTART;VALUE=DATE-TIME:20231015T010000
TZNAME:BRST
TZOFFSETFROM:-0300
TZOFFSETTO:-0200
END:DAYLIGHT
END:VTIMEZONE
END:VCALENDAR
