BEGIN:VCALENDAR
VERSION:2.0
PRODID:-//Plone.org//NONSGML plone.app.event//EN
X-WR-TIMEZONE:America/Sao_Paulo
BEGIN:VEVENT
SUMMARY:Reunião Comitê de Acompanhamento Estudantil em [ Auditorio Nobre
  do CAD 1]
DTSTART;TZID=America/Sao_Paulo;VALUE=DATE-TIME:20220317T150000
DTEND;TZID=America/Sao_Paulo;VALUE=DATE-TIME:20220317T170000
DTSTAMP;VALUE=DATE-TIME:20260422T094121Z
UID:7d364016bb994719a0e62ef5c8feced6@150.164.76.86:8080
CREATED;VALUE=DATE-TIME:20220316T144821Z
DESCRIPTION:Reunião do comitê de acompanhamento PRAE/CAC
LAST-MODIFIED;VALUE=DATE-TIME:20220316T144901Z
URL:http://150.164.76.86:8080/cac/agenda/7596962348657253069
END:VEVENT
BEGIN:VTIMEZONE
TZID:America/Sao_Paulo
X-LIC-LOCATION:America/Sao_Paulo
BEGIN:STANDARD
DTSTART;VALUE=DATE-TIME:20220219T230000
TZNAME:BRT
TZOFFSETFROM:-0200
TZOFFSETTO:-0300
END:STANDARD
END:VTIMEZONE
END:VCALENDAR
