BEGIN:VCALENDAR
VERSION:2.0
PRODID:-//Plone.org//NONSGML plone.app.event//EN
X-WR-TIMEZONE:America/Sao_Paulo
BEGIN:VEVENT
SUMMARY:I Seminário de Morte\, Luto e Cuidados Paliativos em [ Auditorio 
 A102 do Cad 2]
DTSTART;TZID=America/Sao_Paulo;VALUE=DATE-TIME:20221006T180000
DTEND;TZID=America/Sao_Paulo;VALUE=DATE-TIME:20221007T180000
DTSTAMP;VALUE=DATE-TIME:20260421T221618Z
UID:9b23df4457b148df9b2b60d897cc748e@150.164.76.86:8080
CREATED;VALUE=DATE-TIME:20220823T104346Z
DESCRIPTION:<p>Equipamentos necessários - Mesa com duas cadeiras para cre
 denciamento na porta - 2 mesas grandes no hall para Coffee break. - Microf
 one móvel para perguntas da plateia (caso seja permitido). - Notebook e p
 rojetor para exibir slides. Programação Quinta-feira (06/10/2022) Abertu
 ra (18:00 - 18:10) Conferência de abertura (18:10 - 19:10) Coffee break (
 19:10-19:30) Mesa: Processos de lutos (19:30 - 21:00) Sexta-feira (07/10/2
 022) Mesa: Atuação em Cuidados Paliativos (18:00 - 19:30) Coffee break (
 19:30 - 19:50) Conferência de encerramento (19:50 - 21:00)</p>
LAST-MODIFIED;VALUE=DATE-TIME:20220912T112212Z
URL:http://150.164.76.86:8080/cac/agenda/759203844827242781
END:VEVENT
BEGIN:VTIMEZONE
TZID:America/Sao_Paulo
X-LIC-LOCATION:America/Sao_Paulo
BEGIN:STANDARD
DTSTART;VALUE=DATE-TIME:20220219T230000
TZNAME:BRT
TZOFFSETFROM:-0200
TZOFFSETTO:-0300
END:STANDARD
END:VTIMEZONE
END:VCALENDAR
