BEGIN:VCALENDAR
VERSION:2.0
PRODID:-//Plone.org//NONSGML plone.app.event//EN
X-WR-TIMEZONE:America/Sao_Paulo
BEGIN:VEVENT
SUMMARY:Feriado - Finados em [ Auditorio da Reitoria Saguao da Reitoria Gr
 amado da Reitoria Arena da praça de serviços Entorno da Praca de Servico
 s Auditorio Nobre do CAD 1 Auditorio 1A do CAD 1 Auditorio 2A do CAD 1 Aud
 itorio A102 do Cad 2 Auditorio A104 do Cad 2 Auditório B101/102 do CAD 3 
 Auditório B301 do CAD 3 Auditório B302 do CAD 3 Auditório B106 do CAD3 
 Auditório B107 do CAD3 Outros espacos]
DTSTART;TZID=America/Sao_Paulo;VALUE=DATE-TIME:20231102T060000
DTEND;TZID=America/Sao_Paulo;VALUE=DATE-TIME:20231102T230000
DTSTAMP;VALUE=DATE-TIME:20260420T115106Z
UID:68c3ef706f7344478aec70998aef34cd@150.164.76.86:8080
CREATED;VALUE=DATE-TIME:20221110T142309Z
DESCRIPTION:<p>Feriado</p>
LAST-MODIFIED;VALUE=DATE-TIME:20230111T201122Z
URL:http://150.164.76.86:8080/cac/agenda/7555319960226052220
END:VEVENT
BEGIN:VTIMEZONE
TZID:America/Sao_Paulo
X-LIC-LOCATION:America/Sao_Paulo
BEGIN:DAYLIGHT
DTSTART;VALUE=DATE-TIME:20231015T010000
TZNAME:BRST
TZOFFSETFROM:-0300
TZOFFSETTO:-0200
END:DAYLIGHT
END:VTIMEZONE
END:VCALENDAR
