BEGIN:VCALENDAR
VERSION:2.0
PRODID:-//Plone.org//NONSGML plone.app.event//EN
X-WR-TIMEZONE:America/Sao_Paulo
BEGIN:VEVENT
SUMMARY:SABM - Simpósio Acadêmico de Biomedicina em [ Auditório B101/10
 2 do CAD 3 Outros espacos]
DTSTART;TZID=America/Sao_Paulo;VALUE=DATE-TIME:20241209T170000
DTEND;TZID=America/Sao_Paulo;VALUE=DATE-TIME:20241213T220000
DTSTAMP;VALUE=DATE-TIME:20260419T163713Z
UID:16efd66b2b924cab811f573936cc972d@150.164.76.86:8080
CREATED;VALUE=DATE-TIME:20240628T012635Z
DESCRIPTION:<p>Equipamentos: computador\, microfones\, caixa de som/auto f
 alante e projetor Dia 1 (09/12): 17:00 - 17:30 - Recepção e Credenciamen
 to 17:30 - 18:00 - Abertura Oficial 18:00 - 19:00 - Palestra de Abertura 1
 9:00 - 19:30 - Coffee Break 19:30 - 21:00 - Sessão 1 21:00 - 22:00 - Mesa
  Redonda Dias 2 a 5 (10/12 a 13/12): 17:00 - 17:30 - Recepção 17:30 - 19
 :00 - Sessão 2 a 5 (varia por dia) 19:00 - 19:30 - Coffee Break 19:30 - 2
 1:00 - Sessão 6 a 9 (varia por dia) 21:00 - 22:00 - Atividades Finais (Me
 sa Redonda\, Sessão de Posters\, Encerramento\, etc.)</p>
LAST-MODIFIED;VALUE=DATE-TIME:20240729T135209Z
URL:http://150.164.76.86:8080/cac/agenda/7541235189411738016
END:VEVENT
BEGIN:VTIMEZONE
TZID:America/Sao_Paulo
X-LIC-LOCATION:America/Sao_Paulo
BEGIN:DAYLIGHT
DTSTART;VALUE=DATE-TIME:20241020T010000
TZNAME:BRST
TZOFFSETFROM:-0300
TZOFFSETTO:-0200
END:DAYLIGHT
END:VTIMEZONE
END:VCALENDAR
