BEGIN:VCALENDAR
VERSION:2.0
PRODID:-//Plone.org//NONSGML plone.app.event//EN
X-WR-TIMEZONE:America/Sao_Paulo
BEGIN:VEVENT
SUMMARY:IV Seminário de Práticas Docentes Vivenciadas nas Licenciaturas 
 da UFMG em [ Auditorio Nobre do CAD 1]
DTSTART;TZID=America/Sao_Paulo;VALUE=DATE-TIME:20240410T130000
DTEND;TZID=America/Sao_Paulo;VALUE=DATE-TIME:20240412T220000
DTSTAMP;VALUE=DATE-TIME:20260420T063213Z
UID:fc0e3123695b4271980159f2099a1445@150.164.76.86:8080
CREATED;VALUE=DATE-TIME:20240223T103029Z
DESCRIPTION:<p>Considerando que o IV Seminário de Práticas Docentes Vive
 nciadas nas Licenciaturas da UFMG envolve atividades como palestras\, mesa
 s redondas e oficinas\, em termos de equipamentos será necessário aparel
 hos de som e imagem\, como projetor\, tela de projeção\, microfones e so
 m ambiente. Em relação aos serviços\, visando o suporte e operação do
 s equipamentos áudio visuais\, será necessário serviço relacionado ao 
 áudio visual. O IV Seminário de Práticas Docentes Vivenciadas nas Licen
 ciaturas da UFMG é um evento anual promovido pela Comissão para Discuss
 ão e Elaboração das Políticas de Formação Inicial e Continuada de Pr
 ofessores da Educação Básica da UFMG (COMFIC) em parceria com as Redes 
 Municipal e Estadual de Ensino de Belo Horizonte. O evento tem como objeti
 vo promover o debate e a divulgação das atividades que vêm sendo desenv
 olvidas no âmbito da formação de professores\, além de oportunizar a r
 eflexão sobre os estágios curriculares\, a integração UFMG e redes de 
 educação básica\, assim como a formação inicial e continuada de profe
 ssores que ocorrem nesses contextos. Na edição de 2024 também serão re
 alizados os seminários de encerramento dos projetos institucionais do Pib
 id e PRP. A programação do evento foi dividida da seguinte forma: 10 de 
 Abril de 2024 13:00h às 14:00h – Credenciamento dos Participantes 14:00
 h às 17:00h – Mesa Redonda: Os estágios supervisionados na UFMG 19:30h
  às 21:30h - Palestra de Abertura Proferida pelo Prof. Dr. Nilson José M
 achado (USP) 11 de Abril de 2024 09:00h às 11:00h – Palestra Proferida 
 pela Profa. Dra. Isabel Maria Sabino de Farias (UECE) 14:00h às 16:30h 
 – Mesa Redonda: Os Primeiros Passos como Professor(a) na Educação Bás
 ica 17:00h às 18:30h - Fórum dos estudantes das licenciaturas e de curso
 s de pós-graduação relacionados ao ensino e formação de professores 1
 9:30h às 21:30h – Oficinas 12 de Abril de 2024 09:00h às 11:00h – Of
 icinas 14:00h às 18:00h – Seminários de Encerramento dos Programas Ins
 titucionais Pibid e Residência Pedagógica 19:30h às 21:30h – Palestra
  de Encerramento Proferida pelo Prof. Dr. Júlio Emílio Diniz-Pereira (UF
 MG)</p>
LAST-MODIFIED;VALUE=DATE-TIME:20240402T110054Z
URL:http://150.164.76.86:8080/cac/agenda/7521112322508951328
END:VEVENT
BEGIN:VTIMEZONE
TZID:America/Sao_Paulo
X-LIC-LOCATION:America/Sao_Paulo
BEGIN:STANDARD
DTSTART;VALUE=DATE-TIME:20240217T230000
TZNAME:BRT
TZOFFSETFROM:-0200
TZOFFSETTO:-0300
END:STANDARD
END:VTIMEZONE
END:VCALENDAR
