BEGIN:VCALENDAR
VERSION:2.0
PRODID:-//Plone.org//NONSGML plone.app.event//EN
X-WR-TIMEZONE:America/Sao_Paulo
BEGIN:VEVENT
SUMMARY:Solenidade oficial de colação de grau do Curso de Graduação em
  Enfermagem 01/2020 em [ Auditorio Nobre do CAD 1]
DTSTART;TZID=America/Sao_Paulo;VALUE=DATE-TIME:20200722T190000
DTEND;TZID=America/Sao_Paulo;VALUE=DATE-TIME:20200722T200000
DTSTAMP;VALUE=DATE-TIME:20260424T212626Z
UID:42a3b3224e744f5a8ca264f7e2ed7142@150.164.76.86:8080
CREATED;VALUE=DATE-TIME:20200205T132128Z
DESCRIPTION:<p>Solenidade oficial de colação de grau.</p>
LAST-MODIFIED;VALUE=DATE-TIME:20200205T184757Z
URL:http://150.164.76.86:8080/cac/agenda/7518820862284540687
END:VEVENT
BEGIN:VTIMEZONE
TZID:America/Sao_Paulo
X-LIC-LOCATION:America/Sao_Paulo
BEGIN:STANDARD
DTSTART;VALUE=DATE-TIME:20200215T230000
TZNAME:BRT
TZOFFSETFROM:-0200
TZOFFSETTO:-0300
END:STANDARD
END:VTIMEZONE
END:VCALENDAR
