BEGIN:VCALENDAR
VERSION:2.0
PRODID:-//Plone.org//NONSGML plone.app.event//EN
X-WR-TIMEZONE:America/Sao_Paulo
BEGIN:VEVENT
SUMMARY:REUNIÃO AMPLIADAS DOS APOSENTADOS E PENSIONISTAS DO SINDIFES em [
  Auditorio A102 do Cad 2]
DTSTART;TZID=America/Sao_Paulo;VALUE=DATE-TIME:20211214T140000
DTEND;TZID=America/Sao_Paulo;VALUE=DATE-TIME:20211214T170000
DTSTAMP;VALUE=DATE-TIME:20260423T114334Z
UID:5aef8bb928454396a0d014ca9a594d60@150.164.76.86:8080
CREATED;VALUE=DATE-TIME:20211123T131612Z
DESCRIPTION:REUNIÃO AMPLIADA DOS APOSENTADOS E PENSIONISTAS DO SINDIFES.
LAST-MODIFIED;VALUE=DATE-TIME:20211123T132056Z
URL:http://150.164.76.86:8080/cac/agenda/7511927805992930728
END:VEVENT
BEGIN:VTIMEZONE
TZID:America/Sao_Paulo
X-LIC-LOCATION:America/Sao_Paulo
BEGIN:DAYLIGHT
DTSTART;VALUE=DATE-TIME:20211017T010000
TZNAME:BRST
TZOFFSETFROM:-0300
TZOFFSETTO:-0200
END:DAYLIGHT
END:VTIMEZONE
END:VCALENDAR
