BEGIN:VCALENDAR
VERSION:2.0
PRODID:-//Plone.org//NONSGML plone.app.event//EN
X-WR-TIMEZONE:America/Sao_Paulo
BEGIN:VEVENT
SUMMARY:Reunião de Equipe da Reitora em [ Outros espacos]
DTSTART;TZID=America/Sao_Paulo;VALUE=DATE-TIME:20230922T093000
DTEND;TZID=America/Sao_Paulo;VALUE=DATE-TIME:20230922T123000
DTSTAMP;VALUE=DATE-TIME:20260421T075124Z
UID:d10c332234994e9e962b6df4731e4ffc@150.164.76.86:8080
CREATED;VALUE=DATE-TIME:20230919T150103Z
DESCRIPTION:<p>Atendimento audiovisual.</p>
LAST-MODIFIED;VALUE=DATE-TIME:20230919T150117Z
URL:http://150.164.76.86:8080/cac/agenda/7489827264162092995
END:VEVENT
BEGIN:VTIMEZONE
TZID:America/Sao_Paulo
X-LIC-LOCATION:America/Sao_Paulo
BEGIN:STANDARD
DTSTART;VALUE=DATE-TIME:20230225T230000
TZNAME:BRT
TZOFFSETFROM:-0200
TZOFFSETTO:-0300
END:STANDARD
END:VTIMEZONE
END:VCALENDAR
