BEGIN:VCALENDAR
VERSION:2.0
PRODID:-//Plone.org//NONSGML plone.app.event//EN
X-WR-TIMEZONE:America/Sao_Paulo
BEGIN:VEVENT
SUMMARY:Formação de Profissionais da Educação da PBH\, parceira com C0
 MFIC/PROGRAD em [ Auditorio Nobre do CAD 1]
DTSTART;TZID=America/Sao_Paulo;VALUE=DATE-TIME:20240205T081700
DTEND;TZID=America/Sao_Paulo;VALUE=DATE-TIME:20240209T081700
DTSTAMP;VALUE=DATE-TIME:20260420T080652Z
UID:017e43ba559546a2ae02eb558c4219e3@150.164.76.86:8080
CREATED;VALUE=DATE-TIME:20231222T143554Z
DESCRIPTION:<p>Projeção\, microfone de mesa\, microfone avulso ou com pe
 destal.</p>
LAST-MODIFIED;VALUE=DATE-TIME:20240201T181728Z
URL:http://150.164.76.86:8080/cac/agenda/7482080119666465550
END:VEVENT
BEGIN:VTIMEZONE
TZID:America/Sao_Paulo
X-LIC-LOCATION:America/Sao_Paulo
BEGIN:DAYLIGHT
DTSTART;VALUE=DATE-TIME:20231015T010000
TZNAME:BRST
TZOFFSETFROM:-0300
TZOFFSETTO:-0200
END:DAYLIGHT
END:VTIMEZONE
END:VCALENDAR
