BEGIN:VCALENDAR
VERSION:2.0
PRODID:-//Plone.org//NONSGML plone.app.event//EN
X-WR-TIMEZONE:America/Sao_Paulo
BEGIN:VEVENT
SUMMARY:COLEGIADO ESPECIAL DAS FORMAÇÕES TRANSVERSAIS em [ Auditório B1
 06 do CAD3]
DTSTART;TZID=America/Sao_Paulo;VALUE=DATE-TIME:20221114T140000
DTEND;TZID=America/Sao_Paulo;VALUE=DATE-TIME:20221114T170000
DTSTAMP;VALUE=DATE-TIME:20260421T221843Z
UID:3bcdeeb2ef9c4ea98772d10341e489c7@150.164.76.86:8080
CREATED;VALUE=DATE-TIME:20221010T173720Z
DESCRIPTION:<p>ATENDIMENTO MODO AULA PELA EQUIPE DO CAD3<br />REUNIÃO MEN
 SAL REALIZADA TODA SEGUNDA SEGUNDA-FEIRA DO MÊS (14/11 E 12/12)<br />NÃO
  É NECESSÁRIO A EMISSÃO DE CHECK-LIST<br />MOTIVO: ALTERAÇÃO DE LOCAL
  DE SALA B204 PARA RECEBER A ADMINISTRAÇÃO CENTRAL DA CAC</p>
LAST-MODIFIED;VALUE=DATE-TIME:20221111T140112Z
URL:http://150.164.76.86:8080/cac/agenda/7481102129023338476
END:VEVENT
BEGIN:VTIMEZONE
TZID:America/Sao_Paulo
X-LIC-LOCATION:America/Sao_Paulo
BEGIN:DAYLIGHT
DTSTART;VALUE=DATE-TIME:20221016T010000
TZNAME:BRST
TZOFFSETFROM:-0300
TZOFFSETTO:-0200
END:DAYLIGHT
END:VTIMEZONE
END:VCALENDAR
