BEGIN:VCALENDAR
VERSION:2.0
PRODID:-//Plone.org//NONSGML plone.app.event//EN
X-WR-TIMEZONE:America/Sao_Paulo
BEGIN:VEVENT
SUMMARY:X Encontro de Pesquisa em História - Conferência de Abertura em 
 [ Auditorio Nobre do CAD 1]
DTSTART;TZID=America/Sao_Paulo;VALUE=DATE-TIME:20220523T183000
DTEND;TZID=America/Sao_Paulo;VALUE=DATE-TIME:20220523T213000
DTSTAMP;VALUE=DATE-TIME:20260422T081430Z
UID:4687b14acf564ae9bcced5fe869634b9@150.164.76.86:8080
CREATED;VALUE=DATE-TIME:20220425T144346Z
DESCRIPTION:Serão necessários apenas microfones com caixa de som para re
 alização da Conferência de Abertura do X Encontro de Pesquisa em Histó
 ria.
LAST-MODIFIED;VALUE=DATE-TIME:20220425T194811Z
URL:http://150.164.76.86:8080/cac/agenda/7475552487589731384
END:VEVENT
BEGIN:VTIMEZONE
TZID:America/Sao_Paulo
X-LIC-LOCATION:America/Sao_Paulo
BEGIN:STANDARD
DTSTART;VALUE=DATE-TIME:20220219T230000
TZNAME:BRT
TZOFFSETFROM:-0200
TZOFFSETTO:-0300
END:STANDARD
END:VTIMEZONE
END:VCALENDAR
