BEGIN:VCALENDAR
VERSION:2.0
PRODID:-//Plone.org//NONSGML plone.app.event//EN
X-WR-TIMEZONE:America/Sao_Paulo
BEGIN:VEVENT
SUMMARY:Cine Ásia em [ Auditorio A102 do Cad 2]
DTSTART;TZID=America/Sao_Paulo;VALUE=DATE-TIME:20250204T164000
DTEND;TZID=America/Sao_Paulo;VALUE=DATE-TIME:20250206T203000
DTSTAMP;VALUE=DATE-TIME:20260419T120039Z
UID:a06c4c9e9f0a4c3fb3946acbe827723b@150.164.76.86:8080
CREATED;VALUE=DATE-TIME:20250127T175415Z
DESCRIPTION:<p>Cine Ásia / Mostra de Cinema Internacional do Leste Asiát
 ico. Cada dia será exibido um filme de um país. Serão necessários um p
 rojetor\, áudio da sala e um microfone. Programação: 16:40 às 17:30 - 
 Montagem do audiovisual e preparação do local 17:30 às 20h - Projeção
  do filme do dia 20h às 20:30 - Encerramento e limpeza do local</p>
LAST-MODIFIED;VALUE=DATE-TIME:20250128T132838Z
URL:http://150.164.76.86:8080/cac/agenda/743714196565685159
END:VEVENT
BEGIN:VTIMEZONE
TZID:America/Sao_Paulo
X-LIC-LOCATION:America/Sao_Paulo
BEGIN:DAYLIGHT
DTSTART;VALUE=DATE-TIME:20241020T010000
TZNAME:BRST
TZOFFSETFROM:-0300
TZOFFSETTO:-0200
END:DAYLIGHT
END:VTIMEZONE
END:VCALENDAR
