BEGIN:VCALENDAR
VERSION:2.0
PRODID:-//Plone.org//NONSGML plone.app.event//EN
X-WR-TIMEZONE:America/Sao_Paulo
BEGIN:VEVENT
SUMMARY:Transmissão sorteio ingressos show Zélia Duncan em [ Outros espa
 cos]
DTSTART;TZID=America/Sao_Paulo;VALUE=DATE-TIME:20240229T170000
DTEND;TZID=America/Sao_Paulo;VALUE=DATE-TIME:20240229T180000
DTSTAMP;VALUE=DATE-TIME:20260420T080831Z
UID:98bb3d5edcdb4686b4433c21ea388300@150.164.76.86:8080
CREATED;VALUE=DATE-TIME:20240219T191826Z
DESCRIPTION:<p>sorteio público</p>
LAST-MODIFIED;VALUE=DATE-TIME:20240222T141646Z
URL:http://150.164.76.86:8080/cac/agenda/7422555274994161372
END:VEVENT
BEGIN:VTIMEZONE
TZID:America/Sao_Paulo
X-LIC-LOCATION:America/Sao_Paulo
BEGIN:STANDARD
DTSTART;VALUE=DATE-TIME:20240217T230000
TZNAME:BRT
TZOFFSETFROM:-0200
TZOFFSETTO:-0300
END:STANDARD
END:VTIMEZONE
END:VCALENDAR
