BEGIN:VCALENDAR
VERSION:2.0
PRODID:-//Plone.org//NONSGML plone.app.event//EN
X-WR-TIMEZONE:America/Sao_Paulo
BEGIN:VEVENT
SUMMARY:Ensaio da Colação de Grau dos Formandos em Letras em [ Auditorio
  Nobre do CAD 1]
DTSTART;TZID=America/Sao_Paulo;VALUE=DATE-TIME:20241001T140000
DTEND;TZID=America/Sao_Paulo;VALUE=DATE-TIME:20241001T160000
DTSTAMP;VALUE=DATE-TIME:20260419T175353Z
UID:752e9bb91f754141ac9fe92a80519106@150.164.76.86:8080
CREATED;VALUE=DATE-TIME:20240805T174338Z
DESCRIPTION:Serão usados a mesa do auditório\, púlpito\, sala de audio 
 e microfones.
LAST-MODIFIED;VALUE=DATE-TIME:20240805T175615Z
URL:http://150.164.76.86:8080/cac/agenda/74194522017757910
END:VEVENT
BEGIN:VTIMEZONE
TZID:America/Sao_Paulo
X-LIC-LOCATION:America/Sao_Paulo
BEGIN:STANDARD
DTSTART;VALUE=DATE-TIME:20240217T230000
TZNAME:BRT
TZOFFSETFROM:-0200
TZOFFSETTO:-0300
END:STANDARD
END:VTIMEZONE
END:VCALENDAR
