BEGIN:VCALENDAR
VERSION:2.0
PRODID:-//Plone.org//NONSGML plone.app.event//EN
X-WR-TIMEZONE:America/Sao_Paulo
BEGIN:VEVENT
SUMMARY:CAPACIDADE EXCEDIDA em [ Saguao da Reitoria Auditorio da Reitoria 
 Gramado da Reitoria Auditorio 1A do CAD 1 Auditorio 2A do CAD 1 Auditorio 
 A104 do Cad 2 Arena da praça de serviços Auditório B301 do CAD 3]
DTSTART;TZID=America/Sao_Paulo;VALUE=DATE-TIME:20200515T000000
DTEND;TZID=America/Sao_Paulo;VALUE=DATE-TIME:20200515T230000
DTSTAMP;VALUE=DATE-TIME:20260425T001639Z
UID:677d455afc6e4b0ebd316f9fb3186f0e@150.164.76.86:8080
CREATED;VALUE=DATE-TIME:20200205T133643Z
DESCRIPTION:<p>.</p>
LAST-MODIFIED;VALUE=DATE-TIME:20200205T133718Z
URL:http://150.164.76.86:8080/cac/agenda/7391402063064839356
END:VEVENT
BEGIN:VTIMEZONE
TZID:America/Sao_Paulo
X-LIC-LOCATION:America/Sao_Paulo
BEGIN:STANDARD
DTSTART;VALUE=DATE-TIME:20200215T230000
TZNAME:BRT
TZOFFSETFROM:-0200
TZOFFSETTO:-0300
END:STANDARD
END:VTIMEZONE
END:VCALENDAR
