BEGIN:VCALENDAR
VERSION:2.0
PRODID:-//Plone.org//NONSGML plone.app.event//EN
X-WR-TIMEZONE:America/Sao_Paulo
BEGIN:VEVENT
SUMMARY:Semana de Orientação do Estudante Internacional - SOEI_2023/1 em
  [ Auditorio A104 do Cad 2]
DTSTART;TZID=America/Sao_Paulo;VALUE=DATE-TIME:20230301T080000
DTEND;TZID=America/Sao_Paulo;VALUE=DATE-TIME:20230301T130000
DTSTAMP;VALUE=DATE-TIME:20260421T145908Z
UID:874a110c167f44f396761d44982d35e6@150.164.76.86:8080
CREATED;VALUE=DATE-TIME:20221222T102046Z
DESCRIPTION:<p>A Diretoria de Relações Internacionais da UFMG promoverá
  a Semana de Orientação do Estudante Internacional 2023/1\, um evento de
  três dias que visa recepcionar os intercambistas da UFMG. Acontecerá no
 s dias 1\, 2\, e 3 de Março de 2023. Gostaríamos de solicitar a reserva 
 do auditório da reitoria no dia 1 de março de 2023\, de 8h às 13h. Púb
 lico previsto: 50 a 60 alunos intercambistas. Haverá palestras de orienta
 ção e apresentação do Coral da FALE.</p>
LAST-MODIFIED;VALUE=DATE-TIME:20230119T185652Z
URL:http://150.164.76.86:8080/cac/agenda/7382315953839158486
END:VEVENT
BEGIN:VTIMEZONE
TZID:America/Sao_Paulo
X-LIC-LOCATION:America/Sao_Paulo
BEGIN:STANDARD
DTSTART;VALUE=DATE-TIME:20230225T230000
TZNAME:BRT
TZOFFSETFROM:-0200
TZOFFSETTO:-0300
END:STANDARD
END:VTIMEZONE
END:VCALENDAR
