BEGIN:VCALENDAR
VERSION:2.0
PRODID:-//Plone.org//NONSGML plone.app.event//EN
X-WR-TIMEZONE:America/Sao_Paulo
BEGIN:VEVENT
SUMMARY:Simpósio Internacional do Cavalo Atleta (SIMCAV) em [ Auditorio A
 102 do Cad 2 Auditorio A104 do Cad 2]
DTSTART;TZID=America/Sao_Paulo;VALUE=DATE-TIME:20230508T080000
DTEND;TZID=America/Sao_Paulo;VALUE=DATE-TIME:20230515T180000
DTSTAMP;VALUE=DATE-TIME:20260421T115744Z
UID:e896ed6b514e445687975572bbf1b772@150.164.76.86:8080
CREATED;VALUE=DATE-TIME:20220725T224305Z
DESCRIPTION:<p>11/05/2023 Quinta-feira 18:00h sessão de abertura 18:30h P
 alestra (tema e palestrante a confirmar) 19:20h Show artístico 12/05/2023
  Sexta-feira 08:00h Palestra (tema e palestrante a confirmar) 09:00h Pales
 tra (tema e palestrante a confirmar) 10:00h Intervalo 10:30h Palestra (tem
 a e palestrante a confirmar) 12:00h Almoço 14:00h Palestra (tema e palest
 rante a confirmar) 15:00h Palestra (tema e palestrante a confirmar) 16:00h
  Intervalo 16:30h Palestra (tema e palestrante a confirmar) 17:30h Mesa Re
 donda (tema e palestrantes a confirmar) 13/05/2023 Sábado 08:00h Palestra
  (tema e palestrante a confirmar) 09:00h Palestra (tema e palestrante a co
 nfirmar) 10:00h Intervalo 10:30h Palestra (tema e palestrante a confirmar)
  12:00h Almoço 14:00h Palestra (tema e palestrante a confirmar) 15:00h Pa
 lestra (tema e palestrante a confirmar) 16:00h Intervalo 16:30h Palestra (
 tema e palestrante a confirmar) 17:30h Mesa Redonda (tema e palestrantes a
  confirmar) Observação: conforme conversamos na data de hoje (25/07/2022
 ) com a Cássia e Arlei\, fizemos a solicitação flexível em razão da i
 ndefinição neste momento quanto a possibilidade ou não de utilização 
 do CAD2 no sábado. Caso não seja possível sua utilização no final de 
 semana\, iremos solicitar sua utilização nos dias 10\, 11 e 12 de maio d
 e 2023. Reforçando também da necessidade de aprovação do calendário 2
 023 (UFMG) para a confirmação da reserva do CAD2.</p>
LAST-MODIFIED;VALUE=DATE-TIME:20230418T201725Z
URL:http://150.164.76.86:8080/cac/agenda/7379738146622807783
END:VEVENT
BEGIN:VTIMEZONE
TZID:America/Sao_Paulo
X-LIC-LOCATION:America/Sao_Paulo
BEGIN:STANDARD
DTSTART;VALUE=DATE-TIME:20230225T230000
TZNAME:BRT
TZOFFSETFROM:-0200
TZOFFSETTO:-0300
END:STANDARD
END:VTIMEZONE
END:VCALENDAR
