BEGIN:VCALENDAR
VERSION:2.0
PRODID:-//Plone.org//NONSGML plone.app.event//EN
X-WR-TIMEZONE:America/Sao_Paulo
BEGIN:VEVENT
SUMMARY:Rollout Fórmula SAE UFMG em [ Auditorio Nobre do CAD 1]
DTSTART;TZID=America/Sao_Paulo;VALUE=DATE-TIME:20220401T080000
DTEND;TZID=America/Sao_Paulo;VALUE=DATE-TIME:20220401T170000
DTSTAMP;VALUE=DATE-TIME:20260422T081514Z
UID:fc2fde2361154bc085fa688de4142102@150.164.76.86:8080
CREATED;VALUE=DATE-TIME:20220215T152111Z
DESCRIPTION:<p>O Fórmula SAE UFMG é uma iniciativa dos alunos da escola 
 de engenharia ao qual criam um carro no formato SAE para uma competição 
 nacional e internacional. O RollOut do Fórmula SAE UFMG tem como objetivo
  expor ao nossos membros\, ex-membros\, professores\, familiares de membro
 s e principalmente aos patrocinadores do projeto. Uma vez que essa é uma 
 das poucas vezes que eles veem o nosso carro pronto para a competição. A
 lém disso\, o evento tem como objetivo gerar marketing em fotos\, áudios
  e vídeos para divulgação e apresentação da equipe em outros eventos\
 , sejam eles online ou não.</p>
LAST-MODIFIED;VALUE=DATE-TIME:20220225T205003Z
URL:http://150.164.76.86:8080/cac/agenda/7357258408550700036
END:VEVENT
BEGIN:VTIMEZONE
TZID:America/Sao_Paulo
X-LIC-LOCATION:America/Sao_Paulo
BEGIN:STANDARD
DTSTART;VALUE=DATE-TIME:20220219T230000
TZNAME:BRT
TZOFFSETFROM:-0200
TZOFFSETTO:-0300
END:STANDARD
END:VTIMEZONE
END:VCALENDAR
