BEGIN:VCALENDAR
VERSION:2.0
PRODID:-//Plone.org//NONSGML plone.app.event//EN
X-WR-TIMEZONE:America/Sao_Paulo
BEGIN:VEVENT
SUMMARY:I Encontro Mineiro de Divulgação Científica em [ Auditorio A102
  do Cad 2 Auditorio A104 do Cad 2]
DTSTART;TZID=America/Sao_Paulo;VALUE=DATE-TIME:20230628T080000
DTEND;TZID=America/Sao_Paulo;VALUE=DATE-TIME:20230630T220000
DTSTAMP;VALUE=DATE-TIME:20260421T115802Z
UID:c99962c9fa454b4fabb75bd6e0656bb7@150.164.76.86:8080
CREATED;VALUE=DATE-TIME:20230213T135716Z
DESCRIPTION:<p>No projeto aqui apresentado a UFMG se propõe a sediar o I 
 Encontro Mineiro de Divulgação Científica\, o qual será organizado em 
 parceria com Universidades localizadas no interior do Estado\, sendo elas:
  UFVJM\, UFOP\, UFSJ\, UFV\, UFJF\,.... É notório a relevância que a di
 vulgação científica vem assumindo na contemporaneidade\, não apenas pa
 ra democratizar o conhecimento\, mas como um dever e uma necessidade imper
 ativa no sentido de garantir a visibilidade\, legitimidade e confiança do
 s cidadãos nas instituições científicas. A confiança da sociedade na 
 ciência tem sido colocada em xeque nos últimos anos e uma das justificat
 ivas para isso é a posição cada vez mais crítica que a ciência ocupa 
 em temas sensíveis à cidadania. Além disso\, nos últimos anos\, observ
 ou-se a expansão de movimentos ultraconservadores que\, ao voltarem seus 
 ataques a todas as instituições da democracia\, elegem a ciência como u
 m de seus alvos prioritários. No Brasil\, tais movimentos chegaram ao pod
 er político central e as universidades públicas brasileiras foram nos ú
 ltimos anos alvo de constantes ataques a sua autonomia científica\, sua v
 iabilidade material e seu papel social transformador. Ao mesmo tempo\, é 
 crescente o compromisso público das universidades\, aqui ressaltamos as u
 niversidades mineiras\, com a ampliação da interação com diversos seto
 res da sociedade e com o enfrentamento aos desafios contemporâneos que se
  expressam nas ações predatórias e de exploração de grandes empreendi
 mentos no Estado\, nas mudanças climáticas\, no surgimento de novas epid
 emias\, na crise sanitária\, na educação científica de crianças e jov
 ens\, dentre outras. Tanto a ciência e a divulgação científica podem c
 ontribuir de forma relevante para análise e enfrentamento a todas essas q
 uestões\, daí a relevância da proposta de evento aqui apresentada (vide
  programação do evento).</p>
LAST-MODIFIED;VALUE=DATE-TIME:20230619T174313Z
URL:http://150.164.76.86:8080/cac/agenda/7349986064656753022
END:VEVENT
BEGIN:VTIMEZONE
TZID:America/Sao_Paulo
X-LIC-LOCATION:America/Sao_Paulo
BEGIN:STANDARD
DTSTART;VALUE=DATE-TIME:20230225T230000
TZNAME:BRT
TZOFFSETFROM:-0200
TZOFFSETTO:-0300
END:STANDARD
END:VTIMEZONE
END:VCALENDAR
