BEGIN:VCALENDAR
VERSION:2.0
PRODID:-//Plone.org//NONSGML plone.app.event//EN
X-WR-TIMEZONE:America/Sao_Paulo
BEGIN:VEVENT
SUMMARY:Colação de Grau dos Formandos em Letras em [ Auditorio Nobre do 
 CAD 1]
DTSTART;TZID=America/Sao_Paulo;VALUE=DATE-TIME:20230905T170000
DTEND;TZID=America/Sao_Paulo;VALUE=DATE-TIME:20230905T210000
DTSTAMP;VALUE=DATE-TIME:20260421T080407Z
UID:cb9446b3842b4eeb9e26c9b3a3d2dcf9@150.164.76.86:8080
CREATED;VALUE=DATE-TIME:20230508T143348Z
DESCRIPTION:<p>A Cerimônia de Colação de Grau dos Formandos em Letras 
 é realizada semestralmente no Auditório Nobre do CADI. Justificamos a ne
 cessidade de realização da cerimônia no período da noite\, pois contar
 á com a participação\, em sua maioria\, dos alunos que cursaram Letras 
 no período noturno. Além disso\, a maior parte dos formandos já estão 
 trabalhando e possuem grande dificuldade de liberação\, por parte do ser
 viço\, para participação na formatura\, bem como os seus familiares. Re
 ssaltamos que a FALE irá arcar com todos os custos técnicos e administra
 tivos resultantes dessa solicitação e irá prontamente atender as orient
 ações da CAC para a realização do evento.</p>
LAST-MODIFIED;VALUE=DATE-TIME:20230512T130752Z
URL:http://150.164.76.86:8080/cac/agenda/7348861654557404239
END:VEVENT
BEGIN:VTIMEZONE
TZID:America/Sao_Paulo
X-LIC-LOCATION:America/Sao_Paulo
BEGIN:STANDARD
DTSTART;VALUE=DATE-TIME:20230225T230000
TZNAME:BRT
TZOFFSETFROM:-0200
TZOFFSETTO:-0300
END:STANDARD
END:VTIMEZONE
END:VCALENDAR
