BEGIN:VCALENDAR
VERSION:2.0
PRODID:-//Plone.org//NONSGML plone.app.event//EN
X-WR-TIMEZONE:America/Sao_Paulo
BEGIN:VEVENT
SUMMARY:Jogos de origem : Celebrando a África no Novembro Negro em [ Aren
 a da praça de serviços]
DTSTART;TZID=America/Sao_Paulo;VALUE=DATE-TIME:20241108T130000
DTEND;TZID=America/Sao_Paulo;VALUE=DATE-TIME:20241108T143000
DTSTAMP;VALUE=DATE-TIME:20260419T175653Z
UID:a7fdd9df38b24676a1e77c0f1293ceba@150.164.76.86:8080
CREATED;VALUE=DATE-TIME:20241015T164559Z
DESCRIPTION:Meu nome é Mayla Gabriela\, faço parte da Engenharia Solidá
 ria - UFMG\, e participaremos da semana do Novembro Negro. A nossa ativida
 des propõe jogos de origem africana\, faremos uma breve introdução cont
 ando as histórias dos jogos e suas origens\, teremos os jogos de fato e a
 pós os jogos faremos um coffee break com comidas também de origem africa
 nas.
LAST-MODIFIED;VALUE=DATE-TIME:20241015T165145Z
URL:http://150.164.76.86:8080/cac/agenda/7343792681137822202
END:VEVENT
BEGIN:VTIMEZONE
TZID:America/Sao_Paulo
X-LIC-LOCATION:America/Sao_Paulo
BEGIN:DAYLIGHT
DTSTART;VALUE=DATE-TIME:20241020T010000
TZNAME:BRST
TZOFFSETFROM:-0300
TZOFFSETTO:-0200
END:DAYLIGHT
END:VTIMEZONE
END:VCALENDAR
