BEGIN:VCALENDAR
VERSION:2.0
PRODID:-//Plone.org//NONSGML plone.app.event//EN
X-WR-TIMEZONE:America/Sao_Paulo
BEGIN:VEVENT
SUMMARY:Cerimônia de outorga da Medalha José Israel Vargas do Mérito Ci
 entífico em [ Auditório B107 do CAD3]
DTSTART;TZID=America/Sao_Paulo;VALUE=DATE-TIME:20231124T150000
DTEND;TZID=America/Sao_Paulo;VALUE=DATE-TIME:20231124T180000
DTSTAMP;VALUE=DATE-TIME:20260420T155204Z
UID:8f29283c56114a54ab4f567cd33e2801@150.164.76.86:8080
CREATED;VALUE=DATE-TIME:20230816T213359Z
DESCRIPTION:<p>Para o evento solicitamos microfones\, som e multimídia. M
 esa e cadeira para 4 pessoas</p>
LAST-MODIFIED;VALUE=DATE-TIME:20231003T151041Z
URL:http://150.164.76.86:8080/cac/agenda/7323123276217777732
END:VEVENT
BEGIN:VTIMEZONE
TZID:America/Sao_Paulo
X-LIC-LOCATION:America/Sao_Paulo
BEGIN:DAYLIGHT
DTSTART;VALUE=DATE-TIME:20231015T010000
TZNAME:BRST
TZOFFSETFROM:-0300
TZOFFSETTO:-0200
END:DAYLIGHT
END:VTIMEZONE
END:VCALENDAR
