BEGIN:VCALENDAR
VERSION:2.0
PRODID:-//Plone.org//NONSGML plone.app.event//EN
X-WR-TIMEZONE:America/Sao_Paulo
BEGIN:VEVENT
SUMMARY:Reunião de trabalho da Rede Mineira de Educação Básica. em [ A
 uditório B101/102 do CAD 3]
DTSTART;TZID=America/Sao_Paulo;VALUE=DATE-TIME:20250129T080000
DTEND;TZID=America/Sao_Paulo;VALUE=DATE-TIME:20250129T120000
DTSTAMP;VALUE=DATE-TIME:20260419T145132Z
UID:4710fab11ef744b2b95122a7eb097007@150.164.76.86:8080
CREATED;VALUE=DATE-TIME:20241230T162044Z
DESCRIPTION:<p>Projeção\, computador e microfone de mesa.</p>
LAST-MODIFIED;VALUE=DATE-TIME:20250102T195718Z
URL:http://150.164.76.86:8080/cac/agenda/732050287745121688
END:VEVENT
BEGIN:VTIMEZONE
TZID:America/Sao_Paulo
X-LIC-LOCATION:America/Sao_Paulo
BEGIN:DAYLIGHT
DTSTART;VALUE=DATE-TIME:20241020T010000
TZNAME:BRST
TZOFFSETFROM:-0300
TZOFFSETTO:-0200
END:DAYLIGHT
END:VTIMEZONE
END:VCALENDAR
