BEGIN:VCALENDAR
VERSION:2.0
PRODID:-//Plone.org//NONSGML plone.app.event//EN
X-WR-TIMEZONE:America/Sao_Paulo
BEGIN:VEVENT
SUMMARY:Exames de Proficiência do Cenex/FALE em [ Auditorio A102 do Cad 2
  Auditorio A104 do Cad 2 Outros espacos Auditório B101/102 do CAD 3 (102 
 s/ ar condic) Auditório B106 do CAD3 Auditório B107 do CAD3 Auditório B
 301 do CAD 3 Auditório B302 do CAD 3 Auditório B306 do CAD3]
DTSTART;TZID=America/Sao_Paulo;VALUE=DATE-TIME:20250517T080000
DTEND;TZID=America/Sao_Paulo;VALUE=DATE-TIME:20250518T200000
DTSTAMP;VALUE=DATE-TIME:20260419T090915Z
UID:ef2be769b8de420bbd578e15011e6198@150.164.76.86:8080
CREATED;VALUE=DATE-TIME:20250416T145216Z
DESCRIPTION:<p><span>Exames de Proficiência do Cenex/FALE</span></p>
LAST-MODIFIED;VALUE=DATE-TIME:20250514T132009Z
URL:http://150.164.76.86:8080/cac/agenda/7295982308656839343
END:VEVENT
BEGIN:VTIMEZONE
TZID:America/Sao_Paulo
X-LIC-LOCATION:America/Sao_Paulo
BEGIN:STANDARD
DTSTART;VALUE=DATE-TIME:20250215T230000
TZNAME:BRT
TZOFFSETFROM:-0200
TZOFFSETTO:-0300
END:STANDARD
END:VTIMEZONE
END:VCALENDAR
