BEGIN:VCALENDAR
VERSION:2.0
PRODID:-//Plone.org//NONSGML plone.app.event//EN
X-WR-TIMEZONE:America/Sao_Paulo
BEGIN:VEVENT
SUMMARY:Sala de Sessões - cerimônia  lançamento de documentário em [ O
 utros espacos]
DTSTART;TZID=America/Sao_Paulo;VALUE=DATE-TIME:20250310T170000
DTEND;TZID=America/Sao_Paulo;VALUE=DATE-TIME:20250310T190000
DTSTAMP;VALUE=DATE-TIME:20260419T120007Z
UID:031965d57a0c48ea9f122036e4067a63@150.164.76.86:8080
CREATED;VALUE=DATE-TIME:20250210T192850Z
DESCRIPTION:<p>Cerimônia </p>
LAST-MODIFIED;VALUE=DATE-TIME:20250210T193342Z
URL:http://150.164.76.86:8080/cac/agenda/72939547308914177
END:VEVENT
BEGIN:VTIMEZONE
TZID:America/Sao_Paulo
X-LIC-LOCATION:America/Sao_Paulo
BEGIN:STANDARD
DTSTART;VALUE=DATE-TIME:20250215T230000
TZNAME:BRT
TZOFFSETFROM:-0200
TZOFFSETTO:-0300
END:STANDARD
END:VTIMEZONE
END:VCALENDAR
