BEGIN:VCALENDAR
VERSION:2.0
PRODID:-//Plone.org//NONSGML plone.app.event//EN
X-WR-TIMEZONE:America/Sao_Paulo
BEGIN:VEVENT
SUMMARY:Curso de LC e LC/MS em [ Auditorio A102 do Cad 2]
DTSTART;TZID=America/Sao_Paulo;VALUE=DATE-TIME:20240227T080000
DTEND;TZID=America/Sao_Paulo;VALUE=DATE-TIME:20240227T180000
DTSTAMP;VALUE=DATE-TIME:20260420T080658Z
UID:ea93258837cc40309934a92d69ac47ab@150.164.76.86:8080
CREATED;VALUE=DATE-TIME:20240207T141324Z
DESCRIPTION:<p>- Reserva da cantina/copa próxima ao auditório. - Mesa pa
 ra entrega de material para ficar do lado de fora da porta de vidro. - Mes
 a (como teve no evento da Fundepar) para coffee break. AGENDA do evento di
 a 27 de Fevereiro 08H00 – Credenciamento e retirada de kit boas-vindas 8
 H30 – Abertura – Carlos Braga – Gerente de Contas 08H45 - Introduç
 ão a cromatografia: Quando utilizar\, vantagens\, detectores\, ferramenta
 s para econômica de solventes e tempo de análise\, ou seja\, tudo que vo
 cê precisa saber 09H35 - Conceitos básicos de LC/MS – perspectivas e n
 ovas abordagens nas operações e o uso de espectrometria de massas de alt
 a resolução com mobilidade iônica 10H35 - Coffee Break fornecido pela a
 gilent 10H55 - Decifre as inúmeras colunas C18 para os melhores métodos 
 em LC e LC/MS 12H00 - Almoço não fornecido pela Agilent 13H00 - Dicas e 
 Truques em LC: Como resolver os principais problemas de falhas instrumenta
 is e manter a performance de seu Hardware 14H00 - Parte prática - Dicas e
  truques LC/MS - Operação básica de Triplo Quadrupolo e QTOF 15H00 - Pa
 rte prática – Perdendo o medo em resolver problemas no seu LC/MS 16H30 
 – Mesa Redonda e Bye Bye Coffee fornecido pela Agilent</p>
LAST-MODIFIED;VALUE=DATE-TIME:20240215T203339Z
URL:http://150.164.76.86:8080/cac/agenda/72803219550467681
END:VEVENT
BEGIN:VTIMEZONE
TZID:America/Sao_Paulo
X-LIC-LOCATION:America/Sao_Paulo
BEGIN:STANDARD
DTSTART;VALUE=DATE-TIME:20240217T230000
TZNAME:BRT
TZOFFSETFROM:-0200
TZOFFSETTO:-0300
END:STANDARD
END:VTIMEZONE
END:VCALENDAR
