BEGIN:VCALENDAR
VERSION:2.0
PRODID:-//Plone.org//NONSGML plone.app.event//EN
X-WR-TIMEZONE:America/Sao_Paulo
BEGIN:VEVENT
SUMMARY:Blitz Saúde em [ Arena da praça de serviços Entorno da Praca de
  Servicos]
DTSTART;TZID=America/Sao_Paulo;VALUE=DATE-TIME:20241125T070000
DTEND;TZID=America/Sao_Paulo;VALUE=DATE-TIME:20241126T190000
DTSTAMP;VALUE=DATE-TIME:20260419T175901Z
UID:20b2e36d7c6e417e9e8f0d54beda02d1@150.164.76.86:8080
CREATED;VALUE=DATE-TIME:20240229T191841Z
DESCRIPTION:<p>Blitz CASU</p>
LAST-MODIFIED;VALUE=DATE-TIME:20240820T163448Z
URL:http://150.164.76.86:8080/cac/agenda/7280144164834999576
END:VEVENT
BEGIN:VTIMEZONE
TZID:America/Sao_Paulo
X-LIC-LOCATION:America/Sao_Paulo
BEGIN:DAYLIGHT
DTSTART;VALUE=DATE-TIME:20241020T010000
TZNAME:BRST
TZOFFSETFROM:-0300
TZOFFSETTO:-0200
END:DAYLIGHT
END:VTIMEZONE
END:VCALENDAR
