BEGIN:VCALENDAR
VERSION:2.0
PRODID:-//Plone.org//NONSGML plone.app.event//EN
X-WR-TIMEZONE:America/Sao_Paulo
BEGIN:VEVENT
SUMMARY:Encontro da Liga Acadêmica LAFEN em [ Auditorio A104 do Cad 2]
DTSTART;TZID=America/Sao_Paulo;VALUE=DATE-TIME:20250528T173000
DTEND;TZID=America/Sao_Paulo;VALUE=DATE-TIME:20250528T203000
DTSTAMP;VALUE=DATE-TIME:20260419T091154Z
UID:bd5cc15310cb47e3afb16741ee2168e8@150.164.76.86:8080
CREATED;VALUE=DATE-TIME:20250507T190146Z
DESCRIPTION:Palestra da Liga Acadêmica da LAFEN\, aberta a outras ligas a
 cadêmicas de Belo Horizonte. Na ocasião\, serão realizadas duas palestr
 as com palestrantes convidados \, dois ex-alunos da UFMG\, sendo um deles 
 mestre em Psicologia também pela UFMG.
LAST-MODIFIED;VALUE=DATE-TIME:20250507T190900Z
URL:http://150.164.76.86:8080/cac/agenda/7254465492045015715
END:VEVENT
BEGIN:VTIMEZONE
TZID:America/Sao_Paulo
X-LIC-LOCATION:America/Sao_Paulo
BEGIN:STANDARD
DTSTART;VALUE=DATE-TIME:20250215T230000
TZNAME:BRT
TZOFFSETFROM:-0200
TZOFFSETTO:-0300
END:STANDARD
END:VTIMEZONE
END:VCALENDAR
